BEGIN:VCALENDAR
VERSION:2.0
PRODID:-//wp-events-plugin.com//7.2.3.1//EN
TZID:Europe/Berlin
X-WR-TIMEZONE:Europe/Berlin
BEGIN:VEVENT
UID:47@mighty-pixels.de
DTSTART;TZID=Europe/Berlin:20180818T110000
DTEND;TZID=Europe/Berlin:20180818T170000
DTSTAMP:20180706T085838Z
URL:https://mighty-pixels.de/veranstaltungen/vorspieltag-rocket-league/
SUMMARY:Vorspieltag /// Rocket League
DESCRIPTION:Herzlich willkommen beim Vorspieltag für das Spiel Rocket Leag
 ue\n\nAn diesem Tag dürfen zugelassene Spieler ihre Stärken zeigen und d
 iese vom Mighty P!xels eSports Club prüfen lassen. Dieser Tag entscheidet
 \, ob man das Zeug zum Vertragsspieler hat. Dabei wird jede Gruppe verschi
 edene Disziplinen durchlaufen müssen\, bei denen die Spieler auf Hard- so
 wie Softskills getestet und bewertet werden.\n\nDie Dauer des Vorspiels wi
 rd auf ca. 2 Stunde angesetzt.\n\nDie Prüfer Salvatore Gallace (Abteilung
 sleiter) und Tom "DaMo" Reunis (Sportpsychologe) freuen sich auf die Anmel
 dungen und die Möglichkeit niveauvolle Spieler testen zu dürfen.\n\nVora
 ussetzungen:\n\n 	Bewerbung über die Homepage \n 	Link zu einem Replay\,
  im Besten Fall mit Voice Aufnahme (Bitte auf zippyshare.com oder einer ä
 hnlichen Seite hochladen)\n 	Club Mitglieder die bislang keine Demo einger
 eicht haben\, dürfen uns den Link gerne per Mail an clubleitung@mighty-pi
 xels.club zukommen lassen\n 	Erfolgreiche Freigabe durch Abteilungsleiter\
 , nach Einreichung aller o.g. Daten zur Vorprüfung.\n\nHinweise:\n\n 	Nac
 h der Buchung eines Platzes\, werden die eingesandten Daten geprüft und a
 nschließend über die Freigabe beim Vorspieltag entschieden\n 	Bitte nur 
 Maus\, Controller und Headset mitbringen\n 	Keine Übernachtungsmöglichke
 it\n 	Es besteht kein Anrecht auf einen Platz für den Vorspieltag\n\nSpie
 ler\, die den Vorspieltag positiv bestanden haben\, sollten ca. 2-3 Stunde
 n für Gespräche einrechnen. Außerdem werden diese Spieler künftig als 
 Auswahlspieler angesehen. Bei dem Titel Auswahlspieler sollte man besonder
 s darauf achten\, dass dies nur ein vorübergehender Titel ist\, der zeitn
 ah oder sogar am gleichen Tag mit einem Spielervertrag ersetzt wird.\n\n&n
 bsp\;\n\nBei Fragen darf der Livechat unten rechts verwendet werden.\n\nVi
 el Erfolg!
ATTACH;FMTTYPE=image/jpeg:https://mighty-pixels.de/wp-content/uploads/2018
 /03/vorspieltagrl.png
CATEGORIES:Vorspieltage
END:VEVENT
BEGIN:VTIMEZONE
TZID:Europe/Berlin
X-LIC-LOCATION:Europe/Berlin
BEGIN:DAYLIGHT
DTSTART:20180325T030000
TZOFFSETFROM:+0100
TZOFFSETTO:+0200
TZNAME:CEST
END:DAYLIGHT
END:VTIMEZONE
END:VCALENDAR