BEGIN:VCALENDAR
VERSION:2.0
PRODID:-//wp-events-plugin.com//7.2.3.1//EN
TZID:Europe/Berlin
X-WR-TIMEZONE:Europe/Berlin
BEGIN:VEVENT
UID:1301@mighty-pixels.de
DTSTART;TZID=Europe/Berlin:20230401T100000
DTEND;TZID=Europe/Berlin:20230402T100000
DTSTAMP:20230126T075654Z
URL:https://mighty-pixels.de/veranstaltungen/oster-lan-party/
SUMMARY:Oster LAN Party (Nur für Mitglieder)
DESCRIPTION:Wir machen eine Lan-Party\, um in Osterstimmung zu kommen! Viel
 leicht gibt es sogar eine Eiersuche?! - Whut? (Du musst nicht die ganze Ze
 it dabei sein. Komm vorbei und geh\, wann immer Du möchtest!)\n\n 	Vor Or
 t bestellen wir was zu essen.\n 	Snacks und Getränke darf jeder frei mitb
 ringen. Es gibt aber auch vor Ort Snacks und Drinks (kostenpflichtig)\n 	S
 piele werden im Discord besprochen.\n 	Rechner müssen keine mitgebracht w
 erden\n 	Open-End\n
ATTACH;FMTTYPE=image/jpeg:https://mighty-pixels.de/wp-content/uploads/2023
 /01/LAN-Party-Konstanz.jpg
CATEGORIES:Lan Partys
END:VEVENT
BEGIN:VTIMEZONE
TZID:Europe/Berlin
X-LIC-LOCATION:Europe/Berlin
BEGIN:DAYLIGHT
DTSTART:20230326T030000
TZOFFSETFROM:+0100
TZOFFSETTO:+0200
TZNAME:CEST
END:DAYLIGHT
END:VTIMEZONE
END:VCALENDAR