BEGIN:VCALENDAR
VERSION:2.0
PRODID:-//wp-events-plugin.com//7.2.3.1//EN
TZID:Europe/Berlin
X-WR-TIMEZONE:Europe/Berlin
BEGIN:VEVENT
UID:1140@mighty-pixels.de
DTSTART;TZID=Europe/Berlin:20221223T170000
DTEND;TZID=Europe/Berlin:20221223T234500
DTSTAMP:20221102T105450Z
URL:https://mighty-pixels.de/veranstaltungen/nur-fuer-mitglieder-weihnacht
 slan/
SUMMARY:Nur für Mitglieder: WeihnachtsLAN
DESCRIPTION:Mitglieder exklusives Event: Ein Tag vor Weihnachten lassen wir
  es im Clubhaus krachen. Plätzchen\, Kuchen\, Kaffee und Zocken. Gemeinsa
 m stimmen wir uns auf Weihnachten ein bevor es dann in die Weihnachtsferie
 n geht. Unter #eventvorschläge könnt ihr euch abstimmen\, welche Games g
 ezockt werden sollen.
ATTACH;FMTTYPE=image/jpeg:https://mighty-pixels.de/wp-content/uploads/2022
 /11/Konstanz-LAN-Party.jpg
CATEGORIES:Treff
END:VEVENT
BEGIN:VTIMEZONE
TZID:Europe/Berlin
X-LIC-LOCATION:Europe/Berlin
BEGIN:STANDARD
DTSTART:20221030T020000
TZOFFSETFROM:+0200
TZOFFSETTO:+0100
TZNAME:CET
END:STANDARD
END:VTIMEZONE
END:VCALENDAR