BEGIN:VCALENDAR
VERSION:2.0
PRODID:-//wp-events-plugin.com//7.2.3.1//EN
TZID:Europe/Berlin
X-WR-TIMEZONE:Europe/Berlin
BEGIN:VEVENT
UID:181@mighty-pixels.de
DTSTART;TZID=Europe/Berlin:20190928T100000
DTEND;TZID=Europe/Berlin:20190928T170000
DTSTAMP:20190925T201717Z
URL:https://mighty-pixels.de/veranstaltungen/members-free-rocket-league-ta
 g-im-clubhaus/
SUMMARY:MEMBERS FREE: Rocket League Tag im Clubhaus
DESCRIPTION:An diesem Tag dreht sich im Clubhaus alles rund um das Thema "R
 ocket League". Es werden Livestreams laufen sowie an den Rechnern gespielt
 .\n\nBringt eure Controller und Steam Zugangsdaten mit. Wer Snacks oder wa
 s zum Trinken braucht\, sollte dies ebenfalls in den Rucksack stecken.\n\n
 Members Free bedeutet\, dass dieses Event für unsere Mitglieder kostenlos
  ist. Nicht Mitglieder zahlen eine Teilnahmegebühr in Höhe von 10€.\n\
 nBedenkt\, dass wir nur 6 Spiele Rechner zur Verfügung haben. Wer also un
 bedingt spielen möchte\, sollte sich schnell anmelden\, denn die ersten 6
  Anmeldungen erhalten sicher einen Platz. Alle anderen stehen in der Warte
 schlange und machen es sich auf dem Sofa in der Lounge bei spannenden Live
 streams gemütlich.\n\nDu willst dabei sein? Dann werde jetzt für 12€ i
 m Jahr Mitglied und du kannst bei allen Events kostenlos dabei sein.\n\n[s
 u_button url="https://mighty-pixels.club/online_clubhaus/vereinsmitgliedsc
 haft/" target="blank" background="#26a9e1" size="6" center="yes" radius="0
 " icon="icon: handshake-o" text_shadow="0px 0px 0px #000000" class="featur
 ed"]JETZT MITGLIED WERDEN![/su_button]\n\n&nbsp\;\n\nPS: Unser Clubhaus be
 findet sich im Jugendzentrum Konstanz (2.OG)\n\nPPS: Wer nicht pünktlich 
 erscheint\, verliert seinen reservierten Platz.
ATTACH;FMTTYPE=image/jpeg:https://mighty-pixels.de/wp-content/uploads/2018
 /02/abteilungstagrl.png
CATEGORIES:Abteilungstage
END:VEVENT
BEGIN:VTIMEZONE
TZID:Europe/Berlin
X-LIC-LOCATION:Europe/Berlin
BEGIN:DAYLIGHT
DTSTART:20190331T030000
TZOFFSETFROM:+0100
TZOFFSETTO:+0200
TZNAME:CEST
END:DAYLIGHT
END:VTIMEZONE
END:VCALENDAR