BEGIN:VCALENDAR
VERSION:2.0
PRODID:-//wp-events-plugin.com//7.2.3.1//EN
TZID:Europe/Berlin
X-WR-TIMEZONE:Europe/Berlin
BEGIN:VEVENT
UID:1139@mighty-pixels.de
DTSTART;TZID=Europe/Berlin:20221112T193000
DTEND;TZID=Europe/Berlin:20221112T234500
DTSTAMP:20221102T104928Z
URL:https://mighty-pixels.de/veranstaltungen/kinobesuch-und-abendessen/
SUMMARY:Kinobesuch und Abendessen
DESCRIPTION:Wakanda Forever 3D mit anschliessendem Abendessen im Delhi. Anm
 eldeschluss für Reservierungen am 08. November.
ATTACH;FMTTYPE=image/jpeg:https://mighty-pixels.de/wp-content/uploads/2022
 /11/wakanda.png
CATEGORIES:Ausflüge
END:VEVENT
BEGIN:VTIMEZONE
TZID:Europe/Berlin
X-LIC-LOCATION:Europe/Berlin
BEGIN:STANDARD
DTSTART:20221030T020000
TZOFFSETFROM:+0200
TZOFFSETTO:+0100
TZNAME:CET
END:STANDARD
END:VTIMEZONE
END:VCALENDAR