BEGIN:VCALENDAR
VERSION:2.0
PRODID:-//wp-events-plugin.com//7.2.3.1//EN
TZID:Europe/Berlin
X-WR-TIMEZONE:Europe/Berlin
BEGIN:VEVENT
UID:1300@mighty-pixels.de
DTSTART;TZID=Europe/Berlin:20230220T190000
DTEND;TZID=Europe/Berlin:20230220T235900
DTSTAMP:20230126T074615Z
URL:https://mighty-pixels.de/veranstaltungen/kino-avatar-2/
SUMMARY:Kino: Avatar 2
DESCRIPTION:Wir schauen gemeinsam den Film "Avatar: The Way of Water" im Ki
 no und würden davor gemeinsam was essen gehen. Da wir für alle Teilnehme
 r vorreservieren und die Tickets kaufen müssen\, gibt es ein Anmeldeschlu
 ss.\n\nPreis je Kinoticket (Loge) 16\,50€ zzgl. 1€ 3D-Brille\n\nAnmeld
 eschluss ist der 13.02.2023 um 20 Uhr.
ATTACH;FMTTYPE=image/jpeg:https://mighty-pixels.de/wp-content/uploads/2023
 /01/Kinoabend-mit-den-Mighty-Pxels.jpg
CATEGORIES:Ausflüge
END:VEVENT
BEGIN:VTIMEZONE
TZID:Europe/Berlin
X-LIC-LOCATION:Europe/Berlin
BEGIN:STANDARD
DTSTART:20221030T020000
TZOFFSETFROM:+0200
TZOFFSETTO:+0100
TZNAME:CET
END:STANDARD
END:VTIMEZONE
END:VCALENDAR